BEGIN:VCALENDAR
VERSION:2.0
PRODID:-//Crawdaddys Visalia - ECPv6.15.20//NONSGML v1.0//EN
CALSCALE:GREGORIAN
METHOD:PUBLISH
X-ORIGINAL-URL:https://crawdaddysvisalia.com
X-WR-CALDESC:Events for Crawdaddys Visalia
REFRESH-INTERVAL;VALUE=DURATION:PT1H
X-Robots-Tag:noindex
X-PUBLISHED-TTL:PT1H
BEGIN:VTIMEZONE
TZID:America/Los_Angeles
BEGIN:DAYLIGHT
TZOFFSETFROM:-0800
TZOFFSETTO:-0700
TZNAME:PDT
DTSTART:20250309T100000
END:DAYLIGHT
BEGIN:STANDARD
TZOFFSETFROM:-0700
TZOFFSETTO:-0800
TZNAME:PST
DTSTART:20251102T090000
END:STANDARD
BEGIN:DAYLIGHT
TZOFFSETFROM:-0800
TZOFFSETTO:-0700
TZNAME:PDT
DTSTART:20260308T100000
END:DAYLIGHT
BEGIN:STANDARD
TZOFFSETFROM:-0700
TZOFFSETTO:-0800
TZNAME:PST
DTSTART:20261101T090000
END:STANDARD
BEGIN:DAYLIGHT
TZOFFSETFROM:-0800
TZOFFSETTO:-0700
TZNAME:PDT
DTSTART:20270314T100000
END:DAYLIGHT
BEGIN:STANDARD
TZOFFSETFROM:-0700
TZOFFSETTO:-0800
TZNAME:PST
DTSTART:20271107T090000
END:STANDARD
END:VTIMEZONE
BEGIN:VEVENT
DTSTART;TZID=America/Los_Angeles:20260407T200000
DTEND;TZID=America/Los_Angeles:20260407T220000
DTSTAMP:20260421T103946
CREATED:20260303T205547Z
LAST-MODIFIED:20260303T205547Z
UID:330736-1775592000-1775599200@crawdaddysvisalia.com
SUMMARY:Merle Haggard Birthday Tribute
DESCRIPTION:Celebrate the music\, legacy\, and outlaw spirit of Merle Haggard with an unforgettable birthday tribute at Crawdaddy’s. This special evening features performances by Rudy Parris and Skip Edwards\, with an appearance by Norm Hamlet\, the last remaining member of Merle Haggard & The Strangers. Join fellow fans for a night honoring one of country music’s most iconic voices. \nDate: Tuesday\, April 7\, 2026\nTime: 8:00 PM\nLocation: Crawdaddy’s\, 333 E Main St.\, Visalia\, CA\nTickets: $40
URL:https://crawdaddysvisalia.com/event/merle-haggard-birthday-tribute/
LOCATION:Crawdaddys Visalia\, 333 E Main St\, Visalia\, CA\, 93291\, United States
CATEGORIES:All
ATTACH;FMTTYPE=image/webp:https://crawdaddysvisalia.com/wp-content/uploads/2026/03/merle-haggard-birthday.webp
END:VEVENT
END:VCALENDAR