BEGIN:VCALENDAR
VERSION:2.0
PRODID:-//Crawdaddys Visalia - ECPv6.15.20//NONSGML v1.0//EN
CALSCALE:GREGORIAN
METHOD:PUBLISH
X-WR-CALNAME:Crawdaddys Visalia
X-ORIGINAL-URL:https://crawdaddysvisalia.com
X-WR-CALDESC:Events for Crawdaddys Visalia
REFRESH-INTERVAL;VALUE=DURATION:PT1H
X-Robots-Tag:noindex
X-PUBLISHED-TTL:PT1H
BEGIN:VTIMEZONE
TZID:America/Los_Angeles
BEGIN:DAYLIGHT
TZOFFSETFROM:-0800
TZOFFSETTO:-0700
TZNAME:PDT
DTSTART:20250309T100000
END:DAYLIGHT
BEGIN:STANDARD
TZOFFSETFROM:-0700
TZOFFSETTO:-0800
TZNAME:PST
DTSTART:20251102T090000
END:STANDARD
BEGIN:DAYLIGHT
TZOFFSETFROM:-0800
TZOFFSETTO:-0700
TZNAME:PDT
DTSTART:20260308T100000
END:DAYLIGHT
BEGIN:STANDARD
TZOFFSETFROM:-0700
TZOFFSETTO:-0800
TZNAME:PST
DTSTART:20261101T090000
END:STANDARD
BEGIN:DAYLIGHT
TZOFFSETFROM:-0800
TZOFFSETTO:-0700
TZNAME:PDT
DTSTART:20270314T100000
END:DAYLIGHT
BEGIN:STANDARD
TZOFFSETFROM:-0700
TZOFFSETTO:-0800
TZNAME:PST
DTSTART:20271107T090000
END:STANDARD
END:VTIMEZONE
BEGIN:VEVENT
DTSTART;TZID=America/Los_Angeles:20260505T200000
DTEND;TZID=America/Los_Angeles:20260505T220000
DTSTAMP:20260421T103757
CREATED:20260404T161626Z
LAST-MODIFIED:20260404T161626Z
UID:330766-1778011200-1778018400@crawdaddysvisalia.com
SUMMARY:Rosalinda Verde Alexander as Selena
DESCRIPTION:Celebrate Cinco de Mayo with an unforgettable night of music at Crawdaddy’s in downtown Visalia. Rosalinda Verde Alexander brings the spirit and sound of Selena to the stage with a powerhouse tribute performance. She’s joined by Rene Emilio and his band Exodus\, featuring Frank Rodriguez (drums)\, Richard Navarrette (guitar)\, Stan Lara (bass)\, Bernie Garcia (sax)\, Bill Butts (trumpet)\, and Rene Emilio on keyboards and vocals. \nEnjoy a high‑energy evening filled with iconic hits\, live musicianship\, and the vibrant atmosphere Crawdaddy’s is known for. \nEvent Details\nDate: Tuesday\, May 5\, 2026\nTime: Show starts at 8pm (2nd Floor)\nTickets: $40\nLocation: Crawdaddy’s\, 333 E Main St\, Visalia\, CA 93291\nPhone: (559) 625‑5300
URL:https://crawdaddysvisalia.com/event/rosalinda-verde-alexander-as-selena/
LOCATION:Crawdaddys Visalia\, 333 E Main St\, Visalia\, CA\, 93291\, United States
CATEGORIES:All
ATTACH;FMTTYPE=image/webp:https://crawdaddysvisalia.com/wp-content/uploads/2026/04/selena.webp
END:VEVENT
END:VCALENDAR