BEGIN:VCALENDAR
VERSION:2.0
PRODID:-//Crawdaddys Visalia - ECPv6.15.20//NONSGML v1.0//EN
CALSCALE:GREGORIAN
METHOD:PUBLISH
X-WR-CALNAME:Crawdaddys Visalia
X-ORIGINAL-URL:https://crawdaddysvisalia.com
X-WR-CALDESC:Events for Crawdaddys Visalia
REFRESH-INTERVAL;VALUE=DURATION:PT1H
X-Robots-Tag:noindex
X-PUBLISHED-TTL:PT1H
BEGIN:VTIMEZONE
TZID:America/Los_Angeles
BEGIN:DAYLIGHT
TZOFFSETFROM:-0800
TZOFFSETTO:-0700
TZNAME:PDT
DTSTART:20250309T100000
END:DAYLIGHT
BEGIN:STANDARD
TZOFFSETFROM:-0700
TZOFFSETTO:-0800
TZNAME:PST
DTSTART:20251102T090000
END:STANDARD
BEGIN:DAYLIGHT
TZOFFSETFROM:-0800
TZOFFSETTO:-0700
TZNAME:PDT
DTSTART:20260308T100000
END:DAYLIGHT
BEGIN:STANDARD
TZOFFSETFROM:-0700
TZOFFSETTO:-0800
TZNAME:PST
DTSTART:20261101T090000
END:STANDARD
BEGIN:DAYLIGHT
TZOFFSETFROM:-0800
TZOFFSETTO:-0700
TZNAME:PDT
DTSTART:20270314T100000
END:DAYLIGHT
BEGIN:STANDARD
TZOFFSETFROM:-0700
TZOFFSETTO:-0800
TZNAME:PST
DTSTART:20271107T090000
END:STANDARD
END:VTIMEZONE
BEGIN:VEVENT
DTSTART;TZID=America/Los_Angeles:20260616T200000
DTEND;TZID=America/Los_Angeles:20260616T220000
DTSTAMP:20260421T133404
CREATED:20260416T203215Z
LAST-MODIFIED:20260416T203215Z
UID:330872-1781640000-1781647200@crawdaddysvisalia.com
SUMMARY:Southern Rock at Crawdaddy’s
DESCRIPTION:Join us on the second floor at Crawdaddy’s for an unforgettable night with Midnight Rider\, an incredible tribute to the legendary Allman Brothers Band. \nFeaturing Keith England\, former member of the legendary band\, along with powerhouse drummer John Corbett\, who has played drums for Christopher Cross and Kenny Loggins—this is a Southern Rock experience you won’t want to miss! \nIf you’re a fan of Southern Rock classics\, mark your calendar now—this is going to be a fantastic show! \n📅 Tuesday Night\, June 16 \n🎟 Tickets: $40 \n📍 Available at Crawdaddy’s or by phone at 559-625-5300 \nGrab your friends\, bring your love of great music\, and get ready for a night of timeless Southern Rock hits!
URL:https://crawdaddysvisalia.com/event/southern-rock-at-crawdaddys/
CATEGORIES:All
ATTACH;FMTTYPE=image/webp:https://crawdaddysvisalia.com/wp-content/uploads/2026/04/southern-rock-concert.webp
END:VEVENT
END:VCALENDAR